BEGIN:VCALENDAR
VERSION:2.0
PRODID:-//Plone.org//NONSGML plone.app.event//EN
X-WR-TIMEZONE:America/Buenos_Aires
BEGIN:VEVENT
SUMMARY:Fórum de Internacionalização: Educação e Integração Regiona
 l
DTSTART;TZID=America/Buenos_Aires;VALUE=DATE-TIME:20240522T160000
DTEND;TZID=America/Buenos_Aires;VALUE=DATE-TIME:20240522T180000
DTSTAMP;VALUE=DATE-TIME:20260424T101443Z
UID:1fb356fa7ac046468ce33eb433b3a282@portal.unila.edu.br
CREATED;VALUE=DATE-TIME:20240519T154534Z
LAST-MODIFIED;VALUE=DATE-TIME:20240519T171332Z
LOCATION:auditório Martina do Campus Jardim Universitário
URL:https://portal.unila.edu.br/eventos/forum-de-internacionalizacao-educa
 cao-e-integracao-regional
END:VEVENT
BEGIN:VTIMEZONE
TZID:America/Buenos_Aires
X-LIC-LOCATION:America/Buenos_Aires
BEGIN:STANDARD
DTSTART;VALUE=DATE-TIME:20090314T230000
TZNAME:ART
TZOFFSETFROM:-0200
TZOFFSETTO:-0300
END:STANDARD
END:VTIMEZONE
END:VCALENDAR
