BEGIN:VCALENDAR
VERSION:2.0
PRODID:-//Plone.org//NONSGML plone.app.event//EN
X-WR-TIMEZONE:America/Buenos_Aires
BEGIN:VEVENT
SUMMARY:Festival Iguassu Inova
DTSTART;VALUE=DATE:20241127
DTEND;VALUE=DATE:20241128
DTSTAMP;VALUE=DATE-TIME:20260423T224939Z
UID:4d64235b200d4f9285ea77a6fb3613dc@portal.unila.edu.br
CONTACT:https://www.festivaliguassuinova.com.br/#sobre
CREATED;VALUE=DATE-TIME:20241118T163206Z
DESCRIPTION:Festival ocorre de 27 a 30 de novembro no Itaipu Parquetec
LAST-MODIFIED;VALUE=DATE-TIME:20241128T172019Z
LOCATION:Itaipu Parquetec
URL:https://portal.unila.edu.br/eventos/festival-iguassu-inova
END:VEVENT
END:VCALENDAR
