BEGIN:VCALENDAR
VERSION:2.0
PRODID:-//Plone.org//NONSGML plone.app.event//EN
X-WR-TIMEZONE:America/Buenos_Aires
BEGIN:VEVENT
SUMMARY:Festival Iguassu Inova
DTSTART;TZID=America/Buenos_Aires;VALUE=DATE-TIME:20251022T090000
DTEND;TZID=America/Buenos_Aires;VALUE=DATE-TIME:20251025T220000
DTSTAMP;VALUE=DATE-TIME:20260423T210144Z
UID:05f51c613c68407e9b808b88b4f27e35@portal.unila.edu.br
CREATED;VALUE=DATE-TIME:20251010T131058Z
DESCRIPTION:A segunda edição do Festival Iguassu Inova reúne diversas i
 niciativas e ocorre de 22 a 25 de outubro\, no Itaipu Parquetec.
LAST-MODIFIED;VALUE=DATE-TIME:20251013T112506Z
LOCATION:Itaipu Parquetec
URL:https://portal.unila.edu.br/eventos/festival-iguassu-inova-1
END:VEVENT
BEGIN:VTIMEZONE
TZID:America/Buenos_Aires
X-LIC-LOCATION:America/Buenos_Aires
BEGIN:STANDARD
DTSTART;VALUE=DATE-TIME:20090314T230000
TZNAME:ART
TZOFFSETFROM:-0200
TZOFFSETTO:-0300
END:STANDARD
END:VTIMEZONE
END:VCALENDAR
