BEGIN:VCALENDAR
VERSION:2.0
PRODID:-//Plone.org//NONSGML plone.app.event//EN
X-WR-TIMEZONE:America/Buenos_Aires
BEGIN:VEVENT
SUMMARY:Festival de Violões do Paraná
DTSTART;VALUE=DATE:20240904
DTEND;VALUE=DATE:20240909
DTSTAMP;VALUE=DATE-TIME:20260424T084302Z
UID:deeee438720e40b581039f86bf811e07@portal.unila.edu.br
CONTACT:https://sig.unila.edu.br/eventos/public/evento/FVP2024/programacao
 /view
CREATED;VALUE=DATE-TIME:20240904T122602Z
DESCRIPTION:Foz do Iguaçu sedia\, a partir desta quarta-feira (4)\, o Fes
 tival de Violões do Paraná. A UNILA é uma das organizadoras do evento.
LAST-MODIFIED;VALUE=DATE-TIME:20240904T122610Z
LOCATION:Diversos
URL:https://portal.unila.edu.br/eventos/festival-de-violoes-do-parana
END:VEVENT
END:VCALENDAR
