BEGIN:VCALENDAR
VERSION:2.0
PRODID:-//Plone.org//NONSGML plone.app.event//EN
X-WR-TIMEZONE:America/Buenos_Aires
BEGIN:VEVENT
SUMMARY:Feirinha Fim de Ciclo + Novembro Negro
DTSTART;TZID=America/Buenos_Aires;VALUE=DATE-TIME:20241127T160000
DTSTAMP;VALUE=DATE-TIME:20260424T114215Z
UID:37b0923338fe49c8b4250b856a8e28b1@portal.unila.edu.br
CREATED;VALUE=DATE-TIME:20241126T140631Z
DESCRIPTION:A Feirinha Agroecológica da UNILA desta quarta-feira (27)\, n
 o Jardim Universitário\, começa às 16h e traz a temática "Feirinha Fim
  de Ciclo + Novembro Negro".
LAST-MODIFIED;VALUE=DATE-TIME:20241126T140837Z
LOCATION:UNILA - Jardim Universitário
URL:https://portal.unila.edu.br/eventos/feirinha-fim-de-ciclo-novembro-neg
 ro
END:VEVENT
BEGIN:VTIMEZONE
TZID:America/Buenos_Aires
X-LIC-LOCATION:America/Buenos_Aires
BEGIN:STANDARD
DTSTART;VALUE=DATE-TIME:20090314T230000
TZNAME:ART
TZOFFSETFROM:-0200
TZOFFSETTO:-0300
END:STANDARD
END:VTIMEZONE
END:VCALENDAR
