BEGIN:VCALENDAR
VERSION:2.0
PRODID:-//Plone.org//NONSGML plone.app.event//EN
X-WR-TIMEZONE:America/Buenos_Aires
BEGIN:VEVENT
SUMMARY:Feirinha Agroecológica da UNILA - Edição Especial de Primavera
DTSTART;VALUE=DATE:20240918
DTEND;VALUE=DATE:20240920
DTSTAMP;VALUE=DATE-TIME:20260424T010042Z
UID:0619e52735434f83a1c6d2620010eb10@portal.unila.edu.br
CREATED;VALUE=DATE-TIME:20240911T113108Z
DESCRIPTION:Edição especial acontece nos dias 18 e 19 de setembro e ter
 á programação especial
LAST-MODIFIED;VALUE=DATE-TIME:20240911T113115Z
LOCATION:UNILA
URL:https://portal.unila.edu.br/eventos/feirinha-agroecologica-da-unila-ed
 icao-especial-de-primavera
END:VEVENT
END:VCALENDAR
