BEGIN:VCALENDAR
VERSION:2.0
PRODID:-//Plone.org//NONSGML plone.app.event//EN
X-WR-TIMEZONE:America/Buenos_Aires
BEGIN:VEVENT
SUMMARY:Fecult - Festival de Culturas da UNILA
DTSTART;VALUE=DATE:20230803
DTEND;VALUE=DATE:20230805
DTSTAMP;VALUE=DATE-TIME:20260423T225223Z
UID:3a509892c9ec4118bbfc6c6a00131fda@portal.unila.edu.br
CREATED;VALUE=DATE-TIME:20230726T142235Z
DESCRIPTION:Edição deste ano\, que trará variadas apresentações artí
 sticas e feira gastronômica\, ocorrerá nos dias 3 a 4 de julho\, no Jard
 im Universitário
LAST-MODIFIED;VALUE=DATE-TIME:20230726T142243Z
LOCATION:Jardim Universitário
URL:https://portal.unila.edu.br/eventos/fecult-festival-de-culturas-da-uni
 la
END:VEVENT
END:VCALENDAR
