BEGIN:VCALENDAR
VERSION:2.0
PRODID:-//Plone.org//NONSGML plone.app.event//EN
X-WR-TIMEZONE:America/Buenos_Aires
BEGIN:VEVENT
SUMMARY:FeCult 2025
DTSTART;VALUE=DATE:20250910
DTEND;VALUE=DATE:20250915
DTSTAMP;VALUE=DATE-TIME:20260423T163003Z
UID:828a4387a70c48758484dbf16ae4b4e1@portal.unila.edu.br
CREATED;VALUE=DATE-TIME:20250507T175210Z
DESCRIPTION:Festival reúne mais de 50 atrações\, incluindo espetáculos
 \, oficinas e exposições\, com participação de artistas da UNILA e con
 vidados. A programação vai até 14 de setembro.
LAST-MODIFIED;VALUE=DATE-TIME:20250911T125857Z
URL:https://portal.unila.edu.br/eventos/fecult-2025
END:VEVENT
END:VCALENDAR
