BEGIN:VCALENDAR
VERSION:2.0
PRODID:-//Plone.org//NONSGML plone.app.event//EN
X-WR-TIMEZONE:America/Buenos_Aires
BEGIN:VEVENT
SUMMARY:Expresiones UNILA
DTSTART;TZID=America/Sao_Paulo;VALUE=DATE-TIME:20190322T163000
DTEND;TZID=America/Sao_Paulo;VALUE=DATE-TIME:20190326T173000
DTSTAMP;VALUE=DATE-TIME:20260423T224840Z
UID:a93b879e58c249feb26357dee2a2ee30@portal.unila.edu.br
CONTACT:www.facebook.com/UNILAMOVIDA
CREATED;VALUE=DATE-TIME:20190322T144221Z
DESCRIPTION:Mostra é parte da programação de acolhimento dos estudantes
  2019 e propõe recebê-los com uma galeria de imagens produzidas pelos es
 tudantes veteranos.
LAST-MODIFIED;VALUE=DATE-TIME:20190322T144229Z
LOCATION:UNILA - Jardim Universitário
URL:https://portal.unila.edu.br/eventos/expresiones-unila
END:VEVENT
BEGIN:VTIMEZONE
TZID:America/Sao_Paulo
X-LIC-LOCATION:America/Sao_Paulo
BEGIN:STANDARD
DTSTART;VALUE=DATE-TIME:20190216T230000
TZNAME:BRT
TZOFFSETFROM:-0200
TZOFFSETTO:-0300
END:STANDARD
END:VTIMEZONE
END:VCALENDAR
