BEGIN:VCALENDAR
VERSION:2.0
PRODID:-//Plone.org//NONSGML plone.app.event//EN
X-WR-TIMEZONE:America/Buenos_Aires
BEGIN:VEVENT
SUMMARY:Exposição Fotográfica Silver Fever
DTSTART;TZID=America/Buenos_Aires;VALUE=DATE-TIME:20241127T160000
DTSTAMP;VALUE=DATE-TIME:20260424T101845Z
UID:3d5598839f19476397ea6a32d341fa91@portal.unila.edu.br
CREATED;VALUE=DATE-TIME:20241125T134533Z
DESCRIPTION:O objetivo é explorar criativamente as áreas de direção de
  arte e fotografia dentro do conceito distópico futurista cyberpunk\, com
  referências brasileiras.
LAST-MODIFIED;VALUE=DATE-TIME:20241125T135128Z
URL:https://portal.unila.edu.br/eventos/exposicao-fotografica-silver-fever
END:VEVENT
BEGIN:VTIMEZONE
TZID:America/Buenos_Aires
X-LIC-LOCATION:America/Buenos_Aires
BEGIN:STANDARD
DTSTART;VALUE=DATE-TIME:20090314T230000
TZNAME:ART
TZOFFSETFROM:-0200
TZOFFSETTO:-0300
END:STANDARD
END:VTIMEZONE
END:VCALENDAR
