BEGIN:VCALENDAR
VERSION:2.0
PRODID:-//Plone.org//NONSGML plone.app.event//EN
X-WR-TIMEZONE:America/Buenos_Aires
BEGIN:VEVENT
SUMMARY:Exposição "Extraordinárias: mulheres que revolucionaram o Brasi
 l"
DTSTART;VALUE=DATE:20190307
DTEND;VALUE=DATE:20190330
DTSTAMP;VALUE=DATE-TIME:20260423T231030Z
UID:7ebd47020c304f1aaf5a3bebbb14de1d@portal.unila.edu.br
CONTACT:https://www.facebook.com/biunila/videos/561330204359862/?__xts__[0
 ]=68.ARCrQKfLf
CREATED;VALUE=DATE-TIME:20190308T165842Z
DESCRIPTION:A exposição que reúne 19 imagens e histórias de mulheres q
 ue fizeram a diferença para o desenvolvimento do país.
LAST-MODIFIED;VALUE=DATE-TIME:20190308T175302Z
LOCATION:Biblioteca Paulo Freire - Campus UNILA PTI
URL:https://portal.unila.edu.br/eventos/exposicao-extraordinarias-mulheres
 -que-revolucionaram-o-brasil
END:VEVENT
END:VCALENDAR
