BEGIN:VCALENDAR
VERSION:2.0
PRODID:-//Plone.org//NONSGML plone.app.event//EN
X-WR-TIMEZONE:America/Buenos_Aires
BEGIN:VEVENT
SUMMARY:Exposição - Clube da Literatura
DTSTART;TZID=America/Buenos_Aires;VALUE=DATE-TIME:20231024T154000
DTEND;TZID=America/Buenos_Aires;VALUE=DATE-TIME:20231024T180000
DTSTAMP;VALUE=DATE-TIME:20260423T225006Z
UID:42b9ebc829e44388b9b8359b809553f4@portal.unila.edu.br
CREATED;VALUE=DATE-TIME:20231023T131813Z
DESCRIPTION:Exposição interativa montada por estudantes de Relações In
 ternacionais apresenta três obras literárias
LAST-MODIFIED;VALUE=DATE-TIME:20231023T131847Z
LOCATION:Campus Integração - Sala A005
URL:https://portal.unila.edu.br/eventos/exposicao-clube-da-literatura
END:VEVENT
BEGIN:VTIMEZONE
TZID:America/Buenos_Aires
X-LIC-LOCATION:America/Buenos_Aires
BEGIN:STANDARD
DTSTART;VALUE=DATE-TIME:20090314T230000
TZNAME:ART
TZOFFSETFROM:-0200
TZOFFSETTO:-0300
END:STANDARD
END:VTIMEZONE
END:VCALENDAR
