BEGIN:VCALENDAR
VERSION:2.0
PRODID:-//Plone.org//NONSGML plone.app.event//EN
X-WR-TIMEZONE:America/Buenos_Aires
BEGIN:VEVENT
SUMMARY:Exposição: 10 anos do projeto "Vivendo Livros"
DTSTART;TZID=America/Buenos_Aires;VALUE=DATE-TIME:20241122T183000
DTEND;TZID=America/Buenos_Aires;VALUE=DATE-TIME:20241123T210000
DTSTAMP;VALUE=DATE-TIME:20260423T225833Z
UID:13b8e4c1fc624858ba81b7aac573ead5@portal.unila.edu.br
CREATED;VALUE=DATE-TIME:20241119T173119Z
DESCRIPTION:A celebração dos 10 anos do projeto de pesquisa e extensão 
 "Vivendo Livros" acontecerá durante a Mostra "Foz Fazendo Arte: Era Uma V
 ez".
LAST-MODIFIED;VALUE=DATE-TIME:20241119T173659Z
LOCATION:Estação Cultural João Sampaio
URL:https://portal.unila.edu.br/eventos/exposicao-10-anos-do-projeto-viven
 do-livros
END:VEVENT
BEGIN:VTIMEZONE
TZID:America/Buenos_Aires
X-LIC-LOCATION:America/Buenos_Aires
BEGIN:STANDARD
DTSTART;VALUE=DATE-TIME:20090314T230000
TZNAME:ART
TZOFFSETFROM:-0200
TZOFFSETTO:-0300
END:STANDARD
END:VTIMEZONE
END:VCALENDAR
