BEGIN:VCALENDAR
VERSION:2.0
PRODID:-//Plone.org//NONSGML plone.app.event//EN
X-WR-TIMEZONE:America/Buenos_Aires
BEGIN:VEVENT
SUMMARY:Exibição do longa-metragem Las Preñadas
DTSTART;TZID=America/Buenos_Aires;VALUE=DATE-TIME:20230424T173000
DTSTAMP;VALUE=DATE-TIME:20260422T155004Z
UID:ee2deffa83ad44a9962c9f8e80701934@portal.unila.edu.br
CREATED;VALUE=DATE-TIME:20230418T140940Z
DESCRIPTION:Filmado inteiramente na fronteira da Argentina com o estado do
  Paraná\, a co-produção internacional é um drama social\, un road movi
 e a pé
LAST-MODIFIED;VALUE=DATE-TIME:20230418T141054Z
LOCATION:Unila - Jardim Universitário
URL:https://portal.unila.edu.br/eventos/exibicao-do-longa-metragem-las-pre
 nadas
END:VEVENT
BEGIN:VTIMEZONE
TZID:America/Buenos_Aires
X-LIC-LOCATION:America/Buenos_Aires
BEGIN:STANDARD
DTSTART;VALUE=DATE-TIME:20090314T230000
TZNAME:ART
TZOFFSETFROM:-0200
TZOFFSETTO:-0300
END:STANDARD
END:VTIMEZONE
END:VCALENDAR
