BEGIN:VCALENDAR
VERSION:2.0
PRODID:-//Plone.org//NONSGML plone.app.event//EN
X-WR-TIMEZONE:America/Buenos_Aires
BEGIN:VEVENT
SUMMARY:Exibição do filme “Prisioneros de la Tierra”
DTSTART;TZID=America/Buenos_Aires;VALUE=DATE-TIME:20250910T143000
DTEND;TZID=America/Buenos_Aires;VALUE=DATE-TIME:20250910T173000
DTSTAMP;VALUE=DATE-TIME:20260424T041229Z
UID:7b5439b248b547bcafc0e439b18c5bfb@portal.unila.edu.br
CREATED;VALUE=DATE-TIME:20250909T110541Z
DESCRIPTION:Exibição da versão restaurada de "Prisioneros de la Tierra"
  (1939)\, no dia 10 de setembro\, às 14h30\, no SEST/SENAT\, integra a pr
 ogramação do Fecult.
LAST-MODIFIED;VALUE=DATE-TIME:20250909T110842Z
LOCATION:SEST/SENAT
URL:https://portal.unila.edu.br/eventos/exibicao-do-filme-201cprisioneros-
 de-la-tierra201d
END:VEVENT
BEGIN:VTIMEZONE
TZID:America/Buenos_Aires
X-LIC-LOCATION:America/Buenos_Aires
BEGIN:STANDARD
DTSTART;VALUE=DATE-TIME:20090314T230000
TZNAME:ART
TZOFFSETFROM:-0200
TZOFFSETTO:-0300
END:STANDARD
END:VTIMEZONE
END:VCALENDAR
