BEGIN:VCALENDAR
VERSION:2.0
PRODID:-//Plone.org//NONSGML plone.app.event//EN
X-WR-TIMEZONE:America/Buenos_Aires
BEGIN:VEVENT
SUMMARY:Exibição do filme “Os primeiros soldados”
DTSTART;TZID=America/Buenos_Aires;VALUE=DATE-TIME:20230523T190000
DTSTAMP;VALUE=DATE-TIME:20260423T230954Z
UID:c81fd9ae858f43779779872b0211166b@portal.unila.edu.br
CREATED;VALUE=DATE-TIME:20230518T011140Z
DESCRIPTION:Em parceria com a mostra “Arder en la frontera”\, o Cinecl
 ube Cinelatino exibe\, em sessão única\, no dia 23 de maio\, o longa-met
 ragem “Os primeiros soldados”. Após a exibição haverá debate sobre
  o filme\, no Sudacas Bar.
LAST-MODIFIED;VALUE=DATE-TIME:20230518T011152Z
LOCATION:Cine Cataratas (Av. Costa e Silva\, 185)
URL:https://portal.unila.edu.br/eventos/exibicao-do-filme-201cos-primeiros
 -soldados201d
END:VEVENT
BEGIN:VTIMEZONE
TZID:America/Buenos_Aires
X-LIC-LOCATION:America/Buenos_Aires
BEGIN:STANDARD
DTSTART;VALUE=DATE-TIME:20090314T230000
TZNAME:ART
TZOFFSETFROM:-0200
TZOFFSETTO:-0300
END:STANDARD
END:VTIMEZONE
END:VCALENDAR
