BEGIN:VCALENDAR
VERSION:2.0
PRODID:-//Plone.org//NONSGML plone.app.event//EN
X-WR-TIMEZONE:America/Buenos_Aires
BEGIN:VEVENT
SUMMARY:Exibição do filme “O Sal da Terra”
DTSTART;TZID=America/Buenos_Aires;VALUE=DATE-TIME:20251018T173000
DTSTAMP;VALUE=DATE-TIME:20260424T032210Z
UID:e7d252a2f1eb49bc83c05bbe15b46332@portal.unila.edu.br
CREATED;VALUE=DATE-TIME:20251017T170638Z
DESCRIPTION:Filme "O Sal da Terra"\, de Wim Wenders\, será exibido no dia
  18 de outubro\, às 17h30\, no Auditório do Campus Integração\, pelo p
 rojeto Rumo à COP 30.
LAST-MODIFIED;VALUE=DATE-TIME:20251017T182621Z
LOCATION:UNILA - Campus Integração
URL:https://portal.unila.edu.br/eventos/exibicao-do-filme-201co-sal-da-ter
 ra201d
END:VEVENT
BEGIN:VTIMEZONE
TZID:America/Buenos_Aires
X-LIC-LOCATION:America/Buenos_Aires
BEGIN:STANDARD
DTSTART;VALUE=DATE-TIME:20090314T230000
TZNAME:ART
TZOFFSETFROM:-0200
TZOFFSETTO:-0300
END:STANDARD
END:VTIMEZONE
END:VCALENDAR
