BEGIN:VCALENDAR
VERSION:2.0
PRODID:-//Plone.org//NONSGML plone.app.event//EN
X-WR-TIMEZONE:America/Buenos_Aires
BEGIN:VEVENT
SUMMARY:Exibição do Documentário "Latidos Inmigrantes"
DTSTART;TZID=America/Buenos_Aires;VALUE=DATE-TIME:20241101T190000
DTSTAMP;VALUE=DATE-TIME:20260423T225028Z
UID:7cf429845f21400aa1481664b3890437@portal.unila.edu.br
CREATED;VALUE=DATE-TIME:20241029T160549Z
DESCRIPTION:Realizado por estudantes de Cinema e Audiovisual da UNILA\, o 
 documentário será exibido pelo Itaipu Parquetec no dia 1º de novembro\,
  às 19h\, no Auditório do Centro de Recepção de Visitantes (CRV).
LAST-MODIFIED;VALUE=DATE-TIME:20241029T162057Z
LOCATION:Auditório do Centro de Recepção de Visitantes (CRV)
URL:https://portal.unila.edu.br/eventos/exibicao-do-documentario-latidos-i
 nmigrantes
END:VEVENT
BEGIN:VTIMEZONE
TZID:America/Buenos_Aires
X-LIC-LOCATION:America/Buenos_Aires
BEGIN:STANDARD
DTSTART;VALUE=DATE-TIME:20090314T230000
TZNAME:ART
TZOFFSETFROM:-0200
TZOFFSETTO:-0300
END:STANDARD
END:VTIMEZONE
END:VCALENDAR
