BEGIN:VCALENDAR
VERSION:2.0
PRODID:-//Plone.org//NONSGML plone.app.event//EN
X-WR-TIMEZONE:America/Buenos_Aires
BEGIN:VEVENT
SUMMARY:Evento sobre o Parlamento do Mercosul
DTSTART;TZID=America/Buenos_Aires;VALUE=DATE-TIME:20240819T190000
DTSTAMP;VALUE=DATE-TIME:20260424T084302Z
UID:89887f3d21a247ca9ec710501fedff01@portal.unila.edu.br
CREATED;VALUE=DATE-TIME:20240819T185334Z
DESCRIPTION:Nesta segunda-feira (19)\, às 19h\, no Campus Integração\, 
 será realizada a Conferência “Parlasur - Desafíos\, Experiencias e In
 tegración Latinoamericana”.
LAST-MODIFIED;VALUE=DATE-TIME:20240823T142530Z
LOCATION:Auditório do Campus Integração – UNILA - Avenida Tancredo Ne
 ves\, 3147 - Porto Belo
URL:https://portal.unila.edu.br/eventos/evento-sobre-o-parlamento-do-merco
 sul
END:VEVENT
BEGIN:VTIMEZONE
TZID:America/Buenos_Aires
X-LIC-LOCATION:America/Buenos_Aires
BEGIN:STANDARD
DTSTART;VALUE=DATE-TIME:20090314T230000
TZNAME:ART
TZOFFSETFROM:-0200
TZOFFSETTO:-0300
END:STANDARD
END:VTIMEZONE
END:VCALENDAR
