BEGIN:VCALENDAR
VERSION:2.0
PRODID:-//Plone.org//NONSGML plone.app.event//EN
X-WR-TIMEZONE:America/Buenos_Aires
BEGIN:VEVENT
SUMMARY:Estabelecendo Diálogos - Cátedra Paulo Freire UNILA e Cátedra P
 aulo Freire UFRPE
DTSTART;TZID=America/Sao_Paulo;VALUE=DATE-TIME:20190415T090000
DTEND;TZID=America/Sao_Paulo;VALUE=DATE-TIME:20190416T160000
DTSTAMP;VALUE=DATE-TIME:20260423T225736Z
UID:7351c29fa7e2440e912b39798177460d@portal.unila.edu.br
CREATED;VALUE=DATE-TIME:20190405T180853Z
DESCRIPTION:Evento busca realizar a troca de experiências entre as duas c
 átedras e um espaço de palestras da Cátedra Paulo Freire da UNILA
LAST-MODIFIED;VALUE=DATE-TIME:20190415T211144Z
LOCATION:Sala C203 | Jardim Universitário | UNILA
URL:https://portal.unila.edu.br/eventos/estabelecendo-dialogos-catedra-pau
 lo-freire-unila-e-catedra-paulo-freire-ufrpe
END:VEVENT
BEGIN:VTIMEZONE
TZID:America/Sao_Paulo
X-LIC-LOCATION:America/Sao_Paulo
BEGIN:STANDARD
DTSTART;VALUE=DATE-TIME:20190216T230000
TZNAME:BRT
TZOFFSETFROM:-0200
TZOFFSETTO:-0300
END:STANDARD
END:VTIMEZONE
END:VCALENDAR
