BEGIN:VCALENDAR
VERSION:2.0
PRODID:-//Plone.org//NONSGML plone.app.event//EN
X-WR-TIMEZONE:America/Buenos_Aires
BEGIN:VEVENT
SUMMARY:Espetáculo teatral e oficinas
DTSTART;VALUE=DATE:20250530
DTEND;VALUE=DATE:20250604
DTSTAMP;VALUE=DATE-TIME:20260424T100608Z
UID:24892cb58f2a4129b125a41987244c42@portal.unila.edu.br
CREATED;VALUE=DATE-TIME:20250521T105219Z
DESCRIPTION:Peça “Teste de elenco” será apresentada no JU\, em 2 de 
 junho. Além disso\, estão abertas as inscrições para oficinas com o di
 retor do espetáculo\, André Carreira.
LAST-MODIFIED;VALUE=DATE-TIME:20250530T104445Z
LOCATION:UNILA - Jardim Universitário
URL:https://portal.unila.edu.br/eventos/espetaculo-teatral
END:VEVENT
END:VCALENDAR
