BEGIN:VCALENDAR
VERSION:2.0
PRODID:-//Plone.org//NONSGML plone.app.event//EN
X-WR-TIMEZONE:America/Buenos_Aires
BEGIN:VEVENT
SUMMARY:Espetáculo “Fragmentos de Antígonas”
DTSTART;TZID=America/Buenos_Aires;VALUE=DATE-TIME:20240817T190000
DTSTAMP;VALUE=DATE-TIME:20260424T031857Z
UID:e59d81d681e04fdba501e8788d5b1241@portal.unila.edu.br
CREATED;VALUE=DATE-TIME:20240812T160806Z
DESCRIPTION:Coletivo Teatral Cote’Coi\, da UNILA\, apresenta o espetácu
 lo “Fragmentos de Antígonas” no dia 17 de agosto\, no auditório da U
 nioeste - Foz do Iguaçu. Entrada é gratuita.
LAST-MODIFIED;VALUE=DATE-TIME:20240812T160811Z
LOCATION:Auditório da UNIOESTE - Foz do Iguaçu
URL:https://portal.unila.edu.br/eventos/espetaculo-201cfragmentos-de-antig
 onas201d
END:VEVENT
BEGIN:VTIMEZONE
TZID:America/Buenos_Aires
X-LIC-LOCATION:America/Buenos_Aires
BEGIN:STANDARD
DTSTART;VALUE=DATE-TIME:20090314T230000
TZNAME:ART
TZOFFSETFROM:-0200
TZOFFSETTO:-0300
END:STANDARD
END:VTIMEZONE
END:VCALENDAR
