BEGIN:VCALENDAR
VERSION:2.0
PRODID:-//Plone.org//NONSGML plone.app.event//EN
X-WR-TIMEZONE:America/Buenos_Aires
BEGIN:VEVENT
SUMMARY:Escola Latino-Americana de Análise de Dados (ELAD)
DTSTART;TZID=America/Buenos_Aires;VALUE=DATE-TIME:20240506T190000
DTEND;TZID=America/Buenos_Aires;VALUE=DATE-TIME:20240506T210000
DTSTAMP;VALUE=DATE-TIME:20260424T114330Z
UID:82b9b244ffd044ce8058459b70af77b8@portal.unila.edu.br
CREATED;VALUE=DATE-TIME:20240422T181724Z
LAST-MODIFIED;VALUE=DATE-TIME:20240422T210229Z
URL:https://portal.unila.edu.br/eventos/escola-latino-americana-de-analise
 -de-dados-elad
END:VEVENT
BEGIN:VTIMEZONE
TZID:America/Buenos_Aires
X-LIC-LOCATION:America/Buenos_Aires
BEGIN:STANDARD
DTSTART;VALUE=DATE-TIME:20090314T230000
TZNAME:ART
TZOFFSETFROM:-0200
TZOFFSETTO:-0300
END:STANDARD
END:VTIMEZONE
END:VCALENDAR
