BEGIN:VCALENDAR
VERSION:2.0
PRODID:-//Plone.org//NONSGML plone.app.event//EN
X-WR-TIMEZONE:America/Buenos_Aires
BEGIN:VEVENT
SUMMARY:Encuentro de las Naciones y Nacionalidades de la UNILA
DTSTART;TZID=America/Buenos_Aires;VALUE=DATE-TIME:20250203T173000
DTSTAMP;VALUE=DATE-TIME:20260424T010107Z
UID:e1161380b6aa42da9446ffb3b42e324c@portal.unila.edu.br
CREATED;VALUE=DATE-TIME:20250129T124151Z
DESCRIPTION:A PROINT promove um encontro para a comunidade acadêmica da U
 NILA nos dias 3 e 4 de fevereiro\, com a apresentação da equipe de atend
 imento ao estudante internacional\, a introdução a duas iniciativas da P
 ró-Reitoria e a proposta do calendário de eventos pátrios e culturais.
LAST-MODIFIED;VALUE=DATE-TIME:20250129T132949Z
URL:https://portal.unila.edu.br/eventos/encuentro-de-las-naciones-y-nacion
 alidades-de-la-unila
END:VEVENT
BEGIN:VTIMEZONE
TZID:America/Buenos_Aires
X-LIC-LOCATION:America/Buenos_Aires
BEGIN:STANDARD
DTSTART;VALUE=DATE-TIME:20090314T230000
TZNAME:ART
TZOFFSETFROM:-0200
TZOFFSETTO:-0300
END:STANDARD
END:VTIMEZONE
END:VCALENDAR
