BEGIN:VCALENDAR
VERSION:2.0
PRODID:-//Plone.org//NONSGML plone.app.event//EN
X-WR-TIMEZONE:America/Buenos_Aires
BEGIN:VEVENT
SUMMARY:Encontros de Orí - Lutas e práticas contra o racismo e suas inte
 rseccionalidades
DTSTART;TZID=America/Sao_Paulo;VALUE=DATE-TIME:20190513T180000
DTEND;TZID=America/Sao_Paulo;VALUE=DATE-TIME:20190514T193000
DTSTAMP;VALUE=DATE-TIME:20260423T202141Z
UID:030564555ee04394858589a6ad02fa22@portal.unila.edu.br
CREATED;VALUE=DATE-TIME:20190509T144045Z
DESCRIPTION:Evento terá palestras e a exposição fotográfica "Hay un ro
 sto negro en el mundo"
LAST-MODIFIED;VALUE=DATE-TIME:20190514T191705Z
URL:https://portal.unila.edu.br/eventos/encontros-de-ori-lutas-e-praticas-
 contra
END:VEVENT
BEGIN:VTIMEZONE
TZID:America/Sao_Paulo
X-LIC-LOCATION:America/Sao_Paulo
BEGIN:STANDARD
DTSTART;VALUE=DATE-TIME:20190216T230000
TZNAME:BRT
TZOFFSETFROM:-0200
TZOFFSETTO:-0300
END:STANDARD
END:VTIMEZONE
END:VCALENDAR
