BEGIN:VCALENDAR
VERSION:2.0
PRODID:-//Plone.org//NONSGML plone.app.event//EN
X-WR-TIMEZONE:America/Buenos_Aires
BEGIN:VEVENT
SUMMARY:Encontro de Teoria Musical
DTSTART;TZID=America/Buenos_Aires;VALUE=DATE-TIME:20230310T143000
DTSTAMP;VALUE=DATE-TIME:20260423T085427Z
UID:578e6771250a40c89be2fc5ec68f7bf5@portal.unila.edu.br
CATEGORIES:música
CATEGORIES:graduação
CONTACT:https://sig.unila.edu.br/eventos/public/evento/ETMAHNPETAM2023
CREATED;VALUE=DATE-TIME:20230307T170501Z
DESCRIPTION:Encontro terá como temática "Ampliando horizontes: novas per
 spectivas no ensino da teoria e análise musical"
LAST-MODIFIED;VALUE=DATE-TIME:20230307T171617Z
LOCATION:Jardim Universitário\, Sala 204-2
URL:https://portal.unila.edu.br/eventos/encontro-de-teoria-musical
END:VEVENT
BEGIN:VTIMEZONE
TZID:America/Buenos_Aires
X-LIC-LOCATION:America/Buenos_Aires
BEGIN:STANDARD
DTSTART;VALUE=DATE-TIME:20090314T230000
TZNAME:ART
TZOFFSETFROM:-0200
TZOFFSETTO:-0300
END:STANDARD
END:VTIMEZONE
END:VCALENDAR
