BEGIN:VCALENDAR
VERSION:2.0
PRODID:-//Plone.org//NONSGML plone.app.event//EN
X-WR-TIMEZONE:America/Buenos_Aires
BEGIN:VEVENT
SUMMARY:Encontro de Estudos Latino-Americanos
DTSTART;TZID=America/Sao_Paulo;VALUE=DATE-TIME:20191014T140000
DTEND;TZID=America/Sao_Paulo;VALUE=DATE-TIME:20191016T123000
DTSTAMP;VALUE=DATE-TIME:20260423T225112Z
UID:88ace2848c7c40d9b7d07861a6321ec4@portal.unila.edu.br
CATEGORIES:mestrado estudos latino americanos
CREATED;VALUE=DATE-TIME:20191008T175928Z
DESCRIPTION:Em sua quarta edição\, evento terá palestras e minicursos
LAST-MODIFIED;VALUE=DATE-TIME:20191008T180039Z
LOCATION:UNILA - PTI e Jardim Universitário
URL:https://portal.unila.edu.br/eventos/encontro-de-estudos-latino-america
 nos
END:VEVENT
BEGIN:VTIMEZONE
TZID:America/Sao_Paulo
X-LIC-LOCATION:America/Sao_Paulo
BEGIN:STANDARD
DTSTART;VALUE=DATE-TIME:20190216T230000
TZNAME:BRT
TZOFFSETFROM:-0200
TZOFFSETTO:-0300
END:STANDARD
END:VTIMEZONE
END:VCALENDAR
