BEGIN:VCALENDAR
VERSION:2.0
PRODID:-//Plone.org//NONSGML plone.app.event//EN
X-WR-TIMEZONE:America/Buenos_Aires
BEGIN:VEVENT
SUMMARY:El Sur del Cuerpo es Nuestro Norte
DTSTART;TZID=America/Buenos_Aires;VALUE=DATE-TIME:20231005T190000
DTSTAMP;VALUE=DATE-TIME:20260423T230134Z
UID:447bab877201454b920c3e67c97a30be@portal.unila.edu.br
CREATED;VALUE=DATE-TIME:20231003T173209Z
DESCRIPTION:Bate papo com prof. Daniel Colin acontece no dia 05 de outubro
 \, em modalidade remota\, às 19h.
LAST-MODIFIED;VALUE=DATE-TIME:20231003T173218Z
LOCATION:Remoto
URL:https://portal.unila.edu.br/eventos/el-sur-del-cuerpo-es-nuestro-norte
END:VEVENT
BEGIN:VTIMEZONE
TZID:America/Buenos_Aires
X-LIC-LOCATION:America/Buenos_Aires
BEGIN:STANDARD
DTSTART;VALUE=DATE-TIME:20090314T230000
TZNAME:ART
TZOFFSETFROM:-0200
TZOFFSETTO:-0300
END:STANDARD
END:VTIMEZONE
END:VCALENDAR
