BEGIN:VCALENDAR
VERSION:2.0
PRODID:-//Plone.org//NONSGML plone.app.event//EN
X-WR-TIMEZONE:America/Buenos_Aires
BEGIN:VEVENT
SUMMARY:Educação Escolar Indígena
DTSTART;VALUE=DATE:20230817
DTEND;VALUE=DATE:20230819
DTSTAMP;VALUE=DATE-TIME:20260424T040855Z
UID:cfd84f492657428682b82dbd2b9469f0@portal.unila.edu.br
CONTACT:https://sig.unila.edu.br/eventos/public/evento/EEIDU2023
CREATED;VALUE=DATE-TIME:20230815T161721Z
DESCRIPTION:UNILA e Universidade Nacional de Educação do Equador organiz
 am\, nos dias 17 e 18 de agosto\, o evento “Educação Escolar Indígena
 ”. Atividade será no Campus Integração e está com inscrições abert
 as.
LAST-MODIFIED;VALUE=DATE-TIME:20230815T161732Z
LOCATION:UNILA - Campus Integração
URL:https://portal.unila.edu.br/eventos/educacao-escolar-indigena
END:VEVENT
END:VCALENDAR
