BEGIN:VCALENDAR
VERSION:2.0
PRODID:-//Plone.org//NONSGML plone.app.event//EN
X-WR-TIMEZONE:America/Buenos_Aires
BEGIN:VEVENT
SUMMARY:Doc Ambiente realiza evento sobre como proteger-se em tempestades 
 severas
DTSTART;TZID=America/Buenos_Aires;VALUE=DATE-TIME:20220916T190000
DTSTAMP;VALUE=DATE-TIME:20260424T050206Z
UID:8fff10df5f1f43d9ab29cff7ea30404c@portal.unila.edu.br
CONTACT:Ana Silvia Andreu da Fonseca (coordenadora do Doc Ambiente) e Mois
 és Vivas Luna (bolsista do Doc Ambiente)
CREATED;VALUE=DATE-TIME:20220912T164554Z
DESCRIPTION:A iniciativa é uma parceria do projeto de extensão da UNILA\
 , RPC TV e Fundação Cultural
LAST-MODIFIED;VALUE=DATE-TIME:20220912T164720Z
LOCATION:Fundação Cultural de Foz do Iguaçu
URL:https://portal.unila.edu.br/eventos/doc-ambiente-realiza-evento-sobre-
 como-proteger-se-em-tempestades-severas
END:VEVENT
BEGIN:VTIMEZONE
TZID:America/Buenos_Aires
X-LIC-LOCATION:America/Buenos_Aires
BEGIN:STANDARD
DTSTART;VALUE=DATE-TIME:20090314T230000
TZNAME:ART
TZOFFSETFROM:-0200
TZOFFSETTO:-0300
END:STANDARD
END:VTIMEZONE
END:VCALENDAR
