BEGIN:VCALENDAR
VERSION:2.0
PRODID:-//Plone.org//NONSGML plone.app.event//EN
X-WR-TIMEZONE:America/Buenos_Aires
BEGIN:VEVENT
SUMMARY:Diversidad Cultural: la educación como oportunidad para unir la s
 ocied
DTSTART;TZID=America/Sao_Paulo;VALUE=DATE-TIME:20190523T190000
DTEND;TZID=America/Sao_Paulo;VALUE=DATE-TIME:20190523T210000
DTSTAMP;VALUE=DATE-TIME:20260423T150458Z
UID:e1a235de43bf47a89fd56a4943b9c6a6@portal.unila.edu.br
CREATED;VALUE=DATE-TIME:20190521T132005Z
DESCRIPTION:A palestra é uma promoção do curso de Letras - Espanhol e P
 ortuguês como Línguas Estrangeiras e do mestrado em Literatura Comparada
LAST-MODIFIED;VALUE=DATE-TIME:20190521T184713Z
LOCATION:Sala C210 - UNILA - Jardim Universitário - Av. Tarquínio Joslin
  dos Santos\, 1000
URL:https://portal.unila.edu.br/eventos/diversidad-cultural-la-educacion-c
 omo-oportunidad-para-unir-la-socied
END:VEVENT
BEGIN:VTIMEZONE
TZID:America/Sao_Paulo
X-LIC-LOCATION:America/Sao_Paulo
BEGIN:STANDARD
DTSTART;VALUE=DATE-TIME:20190216T230000
TZNAME:BRT
TZOFFSETFROM:-0200
TZOFFSETTO:-0300
END:STANDARD
END:VTIMEZONE
END:VCALENDAR
