BEGIN:VCALENDAR
VERSION:2.0
PRODID:-//Plone.org//NONSGML plone.app.event//EN
X-WR-TIMEZONE:America/Buenos_Aires
BEGIN:VEVENT
SUMMARY:Dia Nacional da Visibilidade Lésbica
DTSTART;TZID=America/Buenos_Aires;VALUE=DATE-TIME:20240829T190000
DTSTAMP;VALUE=DATE-TIME:20260424T032113Z
UID:e594f1af1c0c48979431011a9c2da361@portal.unila.edu.br
CREATED;VALUE=DATE-TIME:20240828T140312Z
DESCRIPTION:Celebração acontecerá no dia 29 de agosto\, na UNILA-Campus
  Integração
LAST-MODIFIED;VALUE=DATE-TIME:20240828T140317Z
LOCATION:UNILA - Campus Integração
URL:https://portal.unila.edu.br/eventos/dia-nacional-da-visibilidade-lesbi
 ca
END:VEVENT
BEGIN:VTIMEZONE
TZID:America/Buenos_Aires
X-LIC-LOCATION:America/Buenos_Aires
BEGIN:STANDARD
DTSTART;VALUE=DATE-TIME:20090314T230000
TZNAME:ART
TZOFFSETFROM:-0200
TZOFFSETTO:-0300
END:STANDARD
END:VTIMEZONE
END:VCALENDAR
