BEGIN:VCALENDAR
VERSION:2.0
PRODID:-//Plone.org//NONSGML plone.app.event//EN
X-WR-TIMEZONE:America/Buenos_Aires
BEGIN:VEVENT
SUMMARY:Dia do Orgulho LGBTQIAPN+: agenda de eventos
DTSTART;VALUE=DATE:20250626
DTEND;VALUE=DATE:20250628
DTSTAMP;VALUE=DATE-TIME:20260423T202207Z
UID:970aa6c32f6a44298b2f155df51e1376@portal.unila.edu.br
CREATED;VALUE=DATE-TIME:20250613T141347Z
DESCRIPTION:Programação organizada pela comunidade acadêmica para o Dia
  do Orgulho LGBTQIAPN+.
LAST-MODIFIED;VALUE=DATE-TIME:20250613T175413Z
URL:https://portal.unila.edu.br/eventos/dia-do-orgulho-lgbtqiapn-agenda-de
 -eventos
END:VEVENT
END:VCALENDAR
