BEGIN:VCALENDAR
VERSION:2.0
PRODID:-//Plone.org//NONSGML plone.app.event//EN
X-WR-TIMEZONE:America/Buenos_Aires
BEGIN:VEVENT
SUMMARY:Dia da Visibilidade Lésbica
DTSTART;TZID=America/Sao_Paulo;VALUE=DATE-TIME:20190829T140000
DTEND;TZID=America/Sao_Paulo;VALUE=DATE-TIME:20190829T200000
DTSTAMP;VALUE=DATE-TIME:20260423T092045Z
UID:d5f10ce0798f4ad78368130d0f2c5e1c@portal.unila.edu.br
CREATED;VALUE=DATE-TIME:20190826T133620Z
DESCRIPTION:Palestras\, debate\, atividades culturais e orientação jurí
 dica estão na programação do evento
LAST-MODIFIED;VALUE=DATE-TIME:20190827T201725Z
LOCATION:UNILA - Unidade Jardim Universitario - sala C203 (Av Taquinio Jos
 lin dos Santos\, 1000 - Jardim Universitário I\, Foz do Iguaçu - PR)
URL:https://portal.unila.edu.br/eventos/dia-da-visibilidade-lesbica
END:VEVENT
BEGIN:VTIMEZONE
TZID:America/Sao_Paulo
X-LIC-LOCATION:America/Sao_Paulo
BEGIN:STANDARD
DTSTART;VALUE=DATE-TIME:20190216T230000
TZNAME:BRT
TZOFFSETFROM:-0200
TZOFFSETTO:-0300
END:STANDARD
END:VTIMEZONE
END:VCALENDAR
