BEGIN:VCALENDAR
VERSION:2.0
PRODID:-//Plone.org//NONSGML plone.app.event//EN
X-WR-TIMEZONE:America/Buenos_Aires
BEGIN:VEVENT
SUMMARY:A imprensa e o nexo entre terrorismo e tríplice fronteira
DTSTART;TZID=America/Sao_Paulo;VALUE=DATE-TIME:20190605T190000
DTEND;TZID=America/Sao_Paulo;VALUE=DATE-TIME:20190605T200000
DTSTAMP;VALUE=DATE-TIME:20260423T225706Z
UID:db858e8051dc43bd9bd07fe4c297c15f@portal.unila.edu.br
CREATED;VALUE=DATE-TIME:20190531T132003Z
DESCRIPTION:Debate do Grupo de Pesquisa Tríplice Fronteira (GTF) sobre o 
 nexo entre terrorismo e a região trinacional
LAST-MODIFIED;VALUE=DATE-TIME:20190604T164831Z
LOCATION:Florestan Fernandes 3 - UNILA-PTI
URL:https://portal.unila.edu.br/eventos/detabe-a-imprensa-e-o-nexo-terrori
 smo-terrorismo-triplice-fronteira
END:VEVENT
BEGIN:VTIMEZONE
TZID:America/Sao_Paulo
X-LIC-LOCATION:America/Sao_Paulo
BEGIN:STANDARD
DTSTART;VALUE=DATE-TIME:20190216T230000
TZNAME:BRT
TZOFFSETFROM:-0200
TZOFFSETTO:-0300
END:STANDARD
END:VTIMEZONE
END:VCALENDAR
