BEGIN:VCALENDAR
VERSION:2.0
PRODID:-//Plone.org//NONSGML plone.app.event//EN
X-WR-TIMEZONE:America/Buenos_Aires
BEGIN:VEVENT
SUMMARY:Democracia en la Frontera: Aspectos históricos y realidades conte
 mporáneas
DTSTART;TZID=America/Buenos_Aires;VALUE=DATE-TIME:20231005T180000
DTSTAMP;VALUE=DATE-TIME:20260424T010419Z
UID:1dc72c31e0bf489dae0310a274b5c036@portal.unila.edu.br
CREATED;VALUE=DATE-TIME:20231003T150126Z
DESCRIPTION:Atividade em virtude da adesão da UNILA ao Dia de Luta pela D
 emocracia Brasileira acontece no dia 05 de outubro\, às 18h\, no miniaudi
 tório da Unioeste.
LAST-MODIFIED;VALUE=DATE-TIME:20231003T191905Z
LOCATION:Unioeste - Miniauditório
URL:https://portal.unila.edu.br/eventos/democracia-en-la-frontera-aspectos
 -historicos-y-realidades-contemporaneas
END:VEVENT
BEGIN:VTIMEZONE
TZID:America/Buenos_Aires
X-LIC-LOCATION:America/Buenos_Aires
BEGIN:STANDARD
DTSTART;VALUE=DATE-TIME:20090314T230000
TZNAME:ART
TZOFFSETFROM:-0200
TZOFFSETTO:-0300
END:STANDARD
END:VTIMEZONE
END:VCALENDAR
