BEGIN:VCALENDAR
VERSION:2.0
PRODID:-//Plone.org//NONSGML plone.app.event//EN
X-WR-TIMEZONE:America/Buenos_Aires
BEGIN:VEVENT
SUMMARY:Defesa Pública de TCC - O Papel das Fake News nas Eleições de 2
 018\, no Brasil
DTSTART;TZID=America/Buenos_Aires;VALUE=DATE-TIME:20220328T140000
DTEND;TZID=America/Buenos_Aires;VALUE=DATE-TIME:20220328T150000
DTSTAMP;VALUE=DATE-TIME:20260424T041349Z
UID:640d5cc3a3fb4e85a6d4d388ec680611@portal.unila.edu.br
CREATED;VALUE=DATE-TIME:20220317T172448Z
DESCRIPTION:O trabalho apresentado faz parte da Licenciatura em Filosofia.
LAST-MODIFIED;VALUE=DATE-TIME:20220317T172707Z
LOCATION:https://meet.google.com/bvq-notc-fvm
URL:https://portal.unila.edu.br/eventos/defesa-publica-de-tcc-o-papel-das-
 fake-news-nas-eleicoes-de-2018-no-brasil
END:VEVENT
BEGIN:VTIMEZONE
TZID:America/Buenos_Aires
X-LIC-LOCATION:America/Buenos_Aires
BEGIN:STANDARD
DTSTART;VALUE=DATE-TIME:20090314T230000
TZNAME:ART
TZOFFSETFROM:-0200
TZOFFSETTO:-0300
END:STANDARD
END:VTIMEZONE
END:VCALENDAR
