BEGIN:VCALENDAR
VERSION:2.0
PRODID:-//Plone.org//NONSGML plone.app.event//EN
X-WR-TIMEZONE:America/Buenos_Aires
BEGIN:VEVENT
SUMMARY:Defesa de Trabalho de Conclusão de Curso - Engenharia Física
DTSTART;TZID=America/Buenos_Aires;VALUE=DATE-TIME:20250801T143000
DTSTAMP;VALUE=DATE-TIME:20260422T091044Z
UID:4173ce47a3be418f9f4f1d323de4f543@portal.unila.edu.br
CATEGORIES:engenharia física
CREATED;VALUE=DATE-TIME:20250731T142518Z
DESCRIPTION:Defesa da estudante Renata Olmedo Benedet investiga a aplicaç
 ão de prototipagem 3D para diagnóstico não invasivo de microcalcificaç
 ões mamárias.
LAST-MODIFIED;VALUE=DATE-TIME:20250806T142856Z
LOCATION:UNILA - ITAIPU Parquetec
URL:https://portal.unila.edu.br/eventos/defesa-de-trabalho-de-conclusao-de
 -curso-engenharia-fisica-1
END:VEVENT
BEGIN:VTIMEZONE
TZID:America/Buenos_Aires
X-LIC-LOCATION:America/Buenos_Aires
BEGIN:STANDARD
DTSTART;VALUE=DATE-TIME:20090314T230000
TZNAME:ART
TZOFFSETFROM:-0200
TZOFFSETTO:-0300
END:STANDARD
END:VTIMEZONE
END:VCALENDAR
