BEGIN:VCALENDAR
VERSION:2.0
PRODID:-//Plone.org//NONSGML plone.app.event//EN
X-WR-TIMEZONE:America/Buenos_Aires
BEGIN:VEVENT
SUMMARY:Defesa de TCC - Especialização em Ensino-Aprendizagem de Língua
 s Adicionais
DTSTART;TZID=America/Sao_Paulo;VALUE=DATE-TIME:20211120T100000
DTEND;TZID=America/Sao_Paulo;VALUE=DATE-TIME:20211120T120000
DTSTAMP;VALUE=DATE-TIME:20260422T071127Z
UID:1f08fa03e32c4c4eb02ff84808e78ae7@portal.unila.edu.br
CATEGORIES:especialização línguas adicionais
CREATED;VALUE=DATE-TIME:20211116T144554Z
DESCRIPTION:O estudante Allisson Ramirez apresentará trabalho de conclus
 ão de curso no dia 20 de novembro\, às 10h
LAST-MODIFIED;VALUE=DATE-TIME:20211116T145733Z
URL:https://portal.unila.edu.br/eventos/defesa-de-tcc-especializacao-em-en
 sino-aprendizagem-de-linguas-adicionais
END:VEVENT
BEGIN:VTIMEZONE
TZID:America/Sao_Paulo
X-LIC-LOCATION:America/Sao_Paulo
BEGIN:DAYLIGHT
DTSTART;VALUE=DATE-TIME:20211017T010000
TZNAME:BRST
TZOFFSETFROM:-0300
TZOFFSETTO:-0200
END:DAYLIGHT
END:VTIMEZONE
END:VCALENDAR
