BEGIN:VCALENDAR
VERSION:2.0
PRODID:-//Plone.org//NONSGML plone.app.event//EN
X-WR-TIMEZONE:America/Buenos_Aires
BEGIN:VEVENT
SUMMARY:Defesa de Mestrado do Programa de Pós-Graduação Interdisciplina
 r em Energia e Sustentabilidade
DTSTART;TZID=America/Buenos_Aires;VALUE=DATE-TIME:20220428T090000
DTEND;TZID=America/Buenos_Aires;VALUE=DATE-TIME:20220428T110000
DTSTAMP;VALUE=DATE-TIME:20260424T010107Z
UID:028c197f5805408a805cf72405cd9611@portal.unila.edu.br
CREATED;VALUE=DATE-TIME:20220426T132736Z
DESCRIPTION:O trabalho Desenvolvimento de eletrodos à base de Fe2O3 e “
 grafeno” para aplicação em supercapacitores será apresentado pela mes
 tranda Ana Paula Gomes da Silva.
LAST-MODIFIED;VALUE=DATE-TIME:20220427T173117Z
LOCATION:meet.google.com/tjd-vuxy-kpk
URL:https://portal.unila.edu.br/eventos/defesa-de-mestrado-do-programa-de-
 pos-graduacao-interdisciplinar-em-energia-e-sustentabilidade-ppgies-ilatit
END:VEVENT
BEGIN:VTIMEZONE
TZID:America/Buenos_Aires
X-LIC-LOCATION:America/Buenos_Aires
BEGIN:STANDARD
DTSTART;VALUE=DATE-TIME:20090314T230000
TZNAME:ART
TZOFFSETFROM:-0200
TZOFFSETTO:-0300
END:STANDARD
END:VTIMEZONE
END:VCALENDAR
