BEGIN:VCALENDAR
VERSION:2.0
PRODID:-//Plone.org//NONSGML plone.app.event//EN
X-WR-TIMEZONE:America/Buenos_Aires
BEGIN:VEVENT
SUMMARY:Defesa de Memorial Acadêmico
DTSTART;TZID=America/Buenos_Aires;VALUE=DATE-TIME:20230926T170000
DTSTAMP;VALUE=DATE-TIME:20260423T201653Z
UID:9e495d1cc1df4629b73b470af906641a@portal.unila.edu.br
CONTACT:https://portal.unila.edu.br/comissoes/cppd/sessoes-publicas
CREATED;VALUE=DATE-TIME:20230922T135311Z
DESCRIPTION:Defesa do memorial descritivo acadêmico da Docente Márcia Ap
 arecida Procópio Scheer.
LAST-MODIFIED;VALUE=DATE-TIME:20230922T135319Z
LOCATION:Remoto
URL:https://portal.unila.edu.br/eventos/defesa-de-memorial-academico
END:VEVENT
BEGIN:VTIMEZONE
TZID:America/Buenos_Aires
X-LIC-LOCATION:America/Buenos_Aires
BEGIN:STANDARD
DTSTART;VALUE=DATE-TIME:20090314T230000
TZNAME:ART
TZOFFSETFROM:-0200
TZOFFSETTO:-0300
END:STANDARD
END:VTIMEZONE
END:VCALENDAR
