BEGIN:VCALENDAR
VERSION:2.0
PRODID:-//Plone.org//NONSGML plone.app.event//EN
X-WR-TIMEZONE:America/Buenos_Aires
BEGIN:VEVENT
SUMMARY:Defesa de dissertação - Mestrado em Biociências
DTSTART;TZID=America/Sao_Paulo;VALUE=DATE-TIME:20200820T083000
DTEND;TZID=America/Sao_Paulo;VALUE=DATE-TIME:20200820T120000
DTSTAMP;VALUE=DATE-TIME:20260423T163150Z
UID:d0042b4e529741db99b15272baf73d33@portal.unila.edu.br
CATEGORIES:mestrado biociências
CREATED;VALUE=DATE-TIME:20200714T174849Z
DESCRIPTION:A estudante Milene Lira defende dissertação no dia 20 de ago
 sto\, às 8h30
LAST-MODIFIED;VALUE=DATE-TIME:20200728T123937Z
URL:https://portal.unila.edu.br/eventos/defesa-de-dissertacao-ppgbc-1
END:VEVENT
BEGIN:VTIMEZONE
TZID:America/Sao_Paulo
X-LIC-LOCATION:America/Sao_Paulo
BEGIN:STANDARD
DTSTART;VALUE=DATE-TIME:20200215T230000
TZNAME:BRT
TZOFFSETFROM:-0200
TZOFFSETTO:-0300
END:STANDARD
END:VTIMEZONE
END:VCALENDAR
