BEGIN:VCALENDAR
VERSION:2.0
PRODID:-//Plone.org//NONSGML plone.app.event//EN
X-WR-TIMEZONE:America/Buenos_Aires
BEGIN:VEVENT
SUMMARY:Defesa de dissertação - PPG-BC
DTSTART;TZID=America/Buenos_Aires;VALUE=DATE-TIME:20250725T090000
DTSTAMP;VALUE=DATE-TIME:20260423T075555Z
UID:9b2ad21ee78d4938ab4c73b3a48651f5@portal.unila.edu.br
CATEGORIES:mestrado biociências
CREATED;VALUE=DATE-TIME:20250701T113118Z
DESCRIPTION:A discente Jessica Sabrina Canedo da Silva Sumensse\, do Progr
 ama de Pós-Graduação em Biociências\, realizará a defesa de sua disse
 rtação de mestrado no dia 25 de julho.
LAST-MODIFIED;VALUE=DATE-TIME:20250701T113423Z
LOCATION:UNILA - Jardim Universitário
URL:https://portal.unila.edu.br/eventos/defesa-de-dissertacao-ppg-bc-2
END:VEVENT
BEGIN:VTIMEZONE
TZID:America/Buenos_Aires
X-LIC-LOCATION:America/Buenos_Aires
BEGIN:STANDARD
DTSTART;VALUE=DATE-TIME:20090314T230000
TZNAME:ART
TZOFFSETFROM:-0200
TZOFFSETTO:-0300
END:STANDARD
END:VTIMEZONE
END:VCALENDAR
