BEGIN:VCALENDAR
VERSION:2.0
PRODID:-//Plone.org//NONSGML plone.app.event//EN
X-WR-TIMEZONE:America/Buenos_Aires
BEGIN:VEVENT
SUMMARY:Defesa de dissertação - PPG-BC
DTSTART;TZID=America/Sao_Paulo;VALUE=DATE-TIME:20200615T090000
DTEND;TZID=America/Sao_Paulo;VALUE=DATE-TIME:20200615T120000
DTSTAMP;VALUE=DATE-TIME:20260422T154406Z
UID:03117362e8494d44bd4b69d8a42af23b@portal.unila.edu.br
CATEGORIES:mestrado biociências
CREATED;VALUE=DATE-TIME:20200618T164651Z
DESCRIPTION:Jaqueline Bail apresenta sua pesquisa às 9h\, por videoconfer
 ência
LAST-MODIFIED;VALUE=DATE-TIME:20200618T164655Z
LOCATION:Videoconferência
URL:https://portal.unila.edu.br/eventos/defesa-de-dissertacao-ppg-bc-1
END:VEVENT
BEGIN:VTIMEZONE
TZID:America/Sao_Paulo
X-LIC-LOCATION:America/Sao_Paulo
BEGIN:STANDARD
DTSTART;VALUE=DATE-TIME:20200215T230000
TZNAME:BRT
TZOFFSETFROM:-0200
TZOFFSETTO:-0300
END:STANDARD
END:VTIMEZONE
END:VCALENDAR
