BEGIN:VCALENDAR
VERSION:2.0
PRODID:-//Plone.org//NONSGML plone.app.event//EN
X-WR-TIMEZONE:America/Buenos_Aires
BEGIN:VEVENT
SUMMARY:Defesa de Dissertação - Mestrado Interdisciplinar em Estudos Lat
 inoamericanos
DTSTART;TZID=America/Buenos_Aires;VALUE=DATE-TIME:20220630T140000
DTEND;TZID=America/Buenos_Aires;VALUE=DATE-TIME:20220630T150000
DTSTAMP;VALUE=DATE-TIME:20260424T112623Z
UID:01b8b1b2b6844e8b85054a8b3a9ae4ea@portal.unila.edu.br
CONTACT:https://conferenciaweb.rnp.br/webconf/unila-ppgiela
CREATED;VALUE=DATE-TIME:20220526T165208Z
DESCRIPTION:A discente Carina Chaves dos Santos Livi defende sua disserta
 ção "Pesquisas sobre Políticas de Línguas na Fronteira: sentidos de di
 versidade\, monolinguismo e práticas translíngues".
LAST-MODIFIED;VALUE=DATE-TIME:20220630T174747Z
LOCATION:Videoconferência
URL:https://portal.unila.edu.br/eventos/defesa-de-dissertacao-mestrado-int
 erdisciplinar-em-estudos-latinoamericanos
END:VEVENT
BEGIN:VTIMEZONE
TZID:America/Buenos_Aires
X-LIC-LOCATION:America/Buenos_Aires
BEGIN:STANDARD
DTSTART;VALUE=DATE-TIME:20090314T230000
TZNAME:ART
TZOFFSETFROM:-0200
TZOFFSETTO:-0300
END:STANDARD
END:VTIMEZONE
END:VCALENDAR
