BEGIN:VCALENDAR
VERSION:2.0
PRODID:-//Plone.org//NONSGML plone.app.event//EN
X-WR-TIMEZONE:America/Buenos_Aires
BEGIN:VEVENT
SUMMARY:Defesa de dissertação - Mestrado em História
DTSTART;TZID=America/Sao_Paulo;VALUE=DATE-TIME:20211029T100000
DTEND;TZID=America/Sao_Paulo;VALUE=DATE-TIME:20211029T120000
DTSTAMP;VALUE=DATE-TIME:20260423T133833Z
UID:e38b1b847a814b62af1eef763fe396f4@portal.unila.edu.br
CATEGORIES:mestrado história
CREATED;VALUE=DATE-TIME:20211025T183950Z
DESCRIPTION:O mestrando Edson dos Santos Junior defenderá dissertação n
 o dia 29 de outubro\, às 10h
LAST-MODIFIED;VALUE=DATE-TIME:20211025T192203Z
URL:https://portal.unila.edu.br/eventos/defesa-de-dissertacao-mestrado-em-
 historia
END:VEVENT
BEGIN:VTIMEZONE
TZID:America/Sao_Paulo
X-LIC-LOCATION:America/Sao_Paulo
BEGIN:DAYLIGHT
DTSTART;VALUE=DATE-TIME:20211017T010000
TZNAME:BRST
TZOFFSETFROM:-0300
TZOFFSETTO:-0200
END:DAYLIGHT
END:VTIMEZONE
END:VCALENDAR
