BEGIN:VCALENDAR
VERSION:2.0
PRODID:-//Plone.org//NONSGML plone.app.event//EN
X-WR-TIMEZONE:America/Buenos_Aires
BEGIN:VEVENT
SUMMARY:Defesa de dissertação - Mestrado em Engenharia Civil
DTSTART;TZID=America/Sao_Paulo;VALUE=DATE-TIME:20210823T080000
DTEND;TZID=America/Sao_Paulo;VALUE=DATE-TIME:20210823T120000
DTSTAMP;VALUE=DATE-TIME:20260424T032425Z
UID:c8465bae246b4954a401078ad28c8e48@portal.unila.edu.br
CATEGORIES:mestrado engenharia civil
CREATED;VALUE=DATE-TIME:20210819T135003Z
DESCRIPTION:O mestrando Edivaldo José da Silva Junior defende dissertaç
 ão na próxima segunda-feira (23)\, às 8h
LAST-MODIFIED;VALUE=DATE-TIME:20210819T135850Z
URL:https://portal.unila.edu.br/eventos/defesa-de-dissertacao-mestrado-em-
 engenharia-civil-7
END:VEVENT
BEGIN:VTIMEZONE
TZID:America/Sao_Paulo
X-LIC-LOCATION:America/Sao_Paulo
BEGIN:STANDARD
DTSTART;VALUE=DATE-TIME:20210220T230000
TZNAME:BRT
TZOFFSETFROM:-0200
TZOFFSETTO:-0300
END:STANDARD
END:VTIMEZONE
END:VCALENDAR
