BEGIN:VCALENDAR
VERSION:2.0
PRODID:-//Plone.org//NONSGML plone.app.event//EN
X-WR-TIMEZONE:America/Buenos_Aires
BEGIN:VEVENT
SUMMARY:Defesa de dissertação - Mestrado em Engenharia Civil
DTSTART;TZID=America/Sao_Paulo;VALUE=DATE-TIME:20200904T160000
DTEND;TZID=America/Sao_Paulo;VALUE=DATE-TIME:20200904T190000
DTSTAMP;VALUE=DATE-TIME:20260424T235222Z
UID:d6a744547e67479894a82bb29f312add@portal.unila.edu.br
CATEGORIES:mestrado engenharia civil
CREATED;VALUE=DATE-TIME:20200901T180220Z
DESCRIPTION:Andressa Bianco Estruzani apresenta trabalho na próxima sexta
 -feira (4)\, às 16h
LAST-MODIFIED;VALUE=DATE-TIME:20200901T182858Z
URL:https://portal.unila.edu.br/eventos/defesa-de-dissertacao-mestrado-em-
 engenharia-civil-1
END:VEVENT
BEGIN:VTIMEZONE
TZID:America/Sao_Paulo
X-LIC-LOCATION:America/Sao_Paulo
BEGIN:STANDARD
DTSTART;VALUE=DATE-TIME:20200215T230000
TZNAME:BRT
TZOFFSETFROM:-0200
TZOFFSETTO:-0300
END:STANDARD
END:VTIMEZONE
END:VCALENDAR
