BEGIN:VCALENDAR
VERSION:2.0
PRODID:-//Plone.org//NONSGML plone.app.event//EN
X-WR-TIMEZONE:America/Buenos_Aires
BEGIN:VEVENT
SUMMARY:Defesa de Dissertação - Mestrado em Energia e Sustentabilidade
DTSTART;TZID=America/Buenos_Aires;VALUE=DATE-TIME:20220805T140000
DTEND;TZID=America/Buenos_Aires;VALUE=DATE-TIME:20220805T180000
DTSTAMP;VALUE=DATE-TIME:20260423T225207Z
UID:d0ad062e7c4f44a2ba4a8944ada2fb2b@portal.unila.edu.br
CONTACT:https://meet.google.com/ihq-wafm-nud
CREATED;VALUE=DATE-TIME:20220718T172441Z
DESCRIPTION:A mestranda Giselly Alexandre de Souza\, do Programa de Pós-g
 raduação Interdisciplinar em Energia e Sustentabilidade (PPGIES)\, defen
 derá sua dissertação: “Eletrodo para supercapacitores à base de TiO2
  e óxido de grafeno: caracterização estrutural e eletroquímica”
LAST-MODIFIED;VALUE=DATE-TIME:20220718T172445Z
LOCATION:Online
URL:https://portal.unila.edu.br/eventos/defesa-de-dissertacao-mestrado-em-
 energia-e-sustentabilidade
END:VEVENT
BEGIN:VTIMEZONE
TZID:America/Buenos_Aires
X-LIC-LOCATION:America/Buenos_Aires
BEGIN:STANDARD
DTSTART;VALUE=DATE-TIME:20090314T230000
TZNAME:ART
TZOFFSETFROM:-0200
TZOFFSETTO:-0300
END:STANDARD
END:VTIMEZONE
END:VCALENDAR
