BEGIN:VCALENDAR
VERSION:2.0
PRODID:-//Plone.org//NONSGML plone.app.event//EN
X-WR-TIMEZONE:America/Buenos_Aires
BEGIN:VEVENT
SUMMARY:Defesa de Dissertação - Mestrado em Energia e Sustentabilidade
DTSTART;TZID=America/Buenos_Aires;VALUE=DATE-TIME:20220825T140000
DTEND;TZID=America/Buenos_Aires;VALUE=DATE-TIME:20220825T170000
DTSTAMP;VALUE=DATE-TIME:20260424T032309Z
UID:8462adca324b4feb90a6925676c51a7b@portal.unila.edu.br
CONTACT:https://join.skype.com/jMqEB2VdfoEh
CREATED;VALUE=DATE-TIME:20220815T174318Z
DESCRIPTION:O mestrando Adriel Rodrigues da Silva defende sua dissertaçã
 o "Bancada de reprodução de falhas em sistemas de proteção e controle-
 powerts"
LAST-MODIFIED;VALUE=DATE-TIME:20220815T174321Z
LOCATION:Online
URL:https://portal.unila.edu.br/eventos/defesa-de-dissertacao-mestrado-em-
 energia-e-sustentabilidade-6
END:VEVENT
BEGIN:VTIMEZONE
TZID:America/Buenos_Aires
X-LIC-LOCATION:America/Buenos_Aires
BEGIN:STANDARD
DTSTART;VALUE=DATE-TIME:20090314T230000
TZNAME:ART
TZOFFSETFROM:-0200
TZOFFSETTO:-0300
END:STANDARD
END:VTIMEZONE
END:VCALENDAR
